BEGIN:VCALENDAR
VERSION:2.0
PRODID:-//Fröbelschule Schorndorf - ECPv6.11.2.1//NONSGML v1.0//EN
CALSCALE:GREGORIAN
METHOD:PUBLISH
X-WR-CALNAME:Fröbelschule Schorndorf
X-ORIGINAL-URL:https://froebelschule-schorndorf.de
X-WR-CALDESC:Veranstaltungen für Fröbelschule Schorndorf
REFRESH-INTERVAL;VALUE=DURATION:PT1H
X-Robots-Tag:noindex
X-PUBLISHED-TTL:PT1H
BEGIN:VTIMEZONE
TZID:Europe/Berlin
BEGIN:DAYLIGHT
TZOFFSETFROM:+0100
TZOFFSETTO:+0200
TZNAME:CEST
DTSTART:20190331T010000
END:DAYLIGHT
BEGIN:STANDARD
TZOFFSETFROM:+0200
TZOFFSETTO:+0100
TZNAME:CET
DTSTART:20191027T010000
END:STANDARD
BEGIN:DAYLIGHT
TZOFFSETFROM:+0100
TZOFFSETTO:+0200
TZNAME:CEST
DTSTART:20200329T010000
END:DAYLIGHT
BEGIN:STANDARD
TZOFFSETFROM:+0200
TZOFFSETTO:+0100
TZNAME:CET
DTSTART:20201025T010000
END:STANDARD
BEGIN:DAYLIGHT
TZOFFSETFROM:+0100
TZOFFSETTO:+0200
TZNAME:CEST
DTSTART:20210328T010000
END:DAYLIGHT
BEGIN:STANDARD
TZOFFSETFROM:+0200
TZOFFSETTO:+0100
TZNAME:CET
DTSTART:20211031T010000
END:STANDARD
BEGIN:DAYLIGHT
TZOFFSETFROM:+0100
TZOFFSETTO:+0200
TZNAME:CEST
DTSTART:20220327T010000
END:DAYLIGHT
BEGIN:STANDARD
TZOFFSETFROM:+0200
TZOFFSETTO:+0100
TZNAME:CET
DTSTART:20221030T010000
END:STANDARD
END:VTIMEZONE
BEGIN:VEVENT
DTSTART;TZID=Europe/Berlin:20220915T103000
DTEND;TZID=Europe/Berlin:20220915T113000
DTSTAMP:20260420T160716
CREATED:20220721T122054Z
LAST-MODIFIED:20221206T081208Z
UID:2675-1663237800-1663241400@froebelschule-schorndorf.de
SUMMARY:Einschulungsfeier Erstklässler
DESCRIPTION:Beginn 10.30 Uhr\nTurnhalle Fröbelschule
URL:https://froebelschule-schorndorf.de/event/einschulungsfeier-erstklaessler/
END:VEVENT
BEGIN:VEVENT
DTSTART;TZID=Europe/Berlin:20220914T180000
DTEND;TZID=Europe/Berlin:20220914T190000
DTSTAMP:20260420T160716
CREATED:20220721T121902Z
LAST-MODIFIED:20220721T121902Z
UID:2673-1663178400-1663182000@froebelschule-schorndorf.de
SUMMARY:Einschulungsgottesdienst
DESCRIPTION:18.00Uhr\nPauluskirche Schorndorf
URL:https://froebelschule-schorndorf.de/event/einschulungsgottesdienst/
LOCATION:Pauluskirche Schorndorf
END:VEVENT
BEGIN:VEVENT
DTSTART;VALUE=DATE:20220912
DTEND;VALUE=DATE:20220913
DTSTAMP:20260420T160716
CREATED:20220721T121627Z
LAST-MODIFIED:20220909T205750Z
UID:2670-1662940800-1663027199@froebelschule-schorndorf.de
SUMMARY:Erster Schultag Schuljahr 2022/2023
DESCRIPTION:Schulbeginn 8.00 Uhr
URL:https://froebelschule-schorndorf.de/event/erster-schultag-schuljahe-2022-2023/
END:VEVENT
BEGIN:VEVENT
DTSTART;VALUE=DATE:20220728
DTEND;VALUE=DATE:20220912
DTSTAMP:20260420T160716
CREATED:20220721T115830Z
LAST-MODIFIED:20220721T115830Z
UID:2658-1658966400-1662940799@froebelschule-schorndorf.de
SUMMARY:SOMMERFERIEN
DESCRIPTION:
URL:https://froebelschule-schorndorf.de/event/sommerferien-4/
END:VEVENT
BEGIN:VEVENT
DTSTART;VALUE=DATE:20220727
DTEND;VALUE=DATE:20220728
DTSTAMP:20260420T160716
CREATED:20220721T115645Z
LAST-MODIFIED:20220721T115645Z
UID:2655-1658880000-1658880000@froebelschule-schorndorf.de
SUMMARY:Letzter Schultag - Unterrichtsende 11:30 Uhr
DESCRIPTION:KEINE Nachmittagsbetreuung!
URL:https://froebelschule-schorndorf.de/event/letzter-schultag-unterrichtsende-1130-uhr/
END:VEVENT
BEGIN:VEVENT
DTSTART;VALUE=DATE:20220228
DTEND;VALUE=DATE:20220305
DTSTAMP:20260420T160716
CREATED:20220224T095415Z
LAST-MODIFIED:20220224T095415Z
UID:2498-1646006400-1646438399@froebelschule-schorndorf.de
SUMMARY:Faschingsferien
DESCRIPTION:In der kommenden Woche sind vom 28.02. 2022  bis einschließlich 04.03.2022 Faschingsferien. \nDer erste Unterrichtstag nach den ferien ist Montag\, 07.03.
URL:https://froebelschule-schorndorf.de/event/faschingsferien-2/
END:VEVENT
BEGIN:VEVENT
DTSTART;VALUE=DATE:20201003
DTEND;VALUE=DATE:20201004
DTSTAMP:20260420T160716
CREATED:20201001T092202Z
LAST-MODIFIED:20201001T092253Z
UID:2069-1601683200-1601769599@froebelschule-schorndorf.de
SUMMARY:Test
DESCRIPTION:
URL:https://froebelschule-schorndorf.de/event/tag-der-dt-einheit/
END:VEVENT
BEGIN:VEVENT
DTSTART;VALUE=DATE:20200730
DTEND;VALUE=DATE:20200914
DTSTAMP:20260420T160716
CREATED:20190901T113253Z
LAST-MODIFIED:20190901T115939Z
UID:1564-1596067200-1600041599@froebelschule-schorndorf.de
SUMMARY:Sommerferien
DESCRIPTION:Sommerferien \nAngegeben sind jeweils der 1. und letzte Ferientag. \nAm letzten Schultag vor den Sommer­ferien und vor den Weihnachtsferien endet der Unterricht immer jeweils so wie freitags.
URL:https://froebelschule-schorndorf.de/event/sommerferien-3/
LOCATION:Fröbelschule Schorndorf\, Rainbrunnenstraße 24\, Schorndorf\, 73614\, Deutschland
END:VEVENT
BEGIN:VEVENT
DTSTART;VALUE=DATE:20200724
DTEND;VALUE=DATE:20200725
DTSTAMP:20260420T160716
CREATED:20190901T115433Z
LAST-MODIFIED:20190901T115433Z
UID:1588-1595548800-1595635199@froebelschule-schorndorf.de
SUMMARY:Entlassfeier der Schulabgänger
DESCRIPTION:
URL:https://froebelschule-schorndorf.de/event/entlassfeier-der-schulabgaenger/
LOCATION:Fröbelschule Schorndorf\, Rainbrunnenstraße 24\, Schorndorf\, 73614\, Deutschland
END:VEVENT
BEGIN:VEVENT
DTSTART;VALUE=DATE:20200530
DTEND;VALUE=DATE:20200615
DTSTAMP:20260420T160716
CREATED:20190901T113058Z
LAST-MODIFIED:20190901T113058Z
UID:1562-1590796800-1592179199@froebelschule-schorndorf.de
SUMMARY:Pfingstferien
DESCRIPTION:Pfingstferien \nAngegeben sind jeweils der 1. und letzte Ferientag.
URL:https://froebelschule-schorndorf.de/event/pfingstferien-3/
END:VEVENT
BEGIN:VEVENT
DTSTART;VALUE=DATE:20200522
DTEND;VALUE=DATE:20200523
DTSTAMP:20260420T160716
CREATED:20190901T113009Z
LAST-MODIFIED:20190901T113009Z
UID:1560-1590105600-1590191999@froebelschule-schorndorf.de
SUMMARY:Brückentag
DESCRIPTION:schulfreier Brückentag
URL:https://froebelschule-schorndorf.de/event/brueckentag-2/
END:VEVENT
BEGIN:VEVENT
DTSTART;TZID=Europe/Berlin:20200521T080000
DTEND;TZID=Europe/Berlin:20200521T170000
DTSTAMP:20260420T160716
CREATED:20190901T112932Z
LAST-MODIFIED:20190901T112932Z
UID:1558-1590048000-1590080400@froebelschule-schorndorf.de
SUMMARY:Feiertag
DESCRIPTION:Feiertag „Christi Himmelfahrt“
URL:https://froebelschule-schorndorf.de/event/feiertag-2/
END:VEVENT
BEGIN:VEVENT
DTSTART;TZID=Europe/Berlin:20200424T120000
DTEND;TZID=Europe/Berlin:20200424T150000
DTSTAMP:20260420T160716
CREATED:20190901T115230Z
LAST-MODIFIED:20190901T115230Z
UID:1584-1587729600-1587740400@froebelschule-schorndorf.de
SUMMARY:Förderplangespräche
DESCRIPTION:Förderplangespräche mit dem Klassenlehrer \nTermine werden individuell vereinbart
URL:https://froebelschule-schorndorf.de/event/foerderplangespraeche-3/
END:VEVENT
BEGIN:VEVENT
DTSTART;VALUE=DATE:20200404
DTEND;VALUE=DATE:20200420
DTSTAMP:20260420T160716
CREATED:20190901T112758Z
LAST-MODIFIED:20190901T112758Z
UID:1556-1585958400-1587340799@froebelschule-schorndorf.de
SUMMARY:Osterferien
DESCRIPTION:Osterferien \nAngegeben sind jeweils der 1. und letzte Ferientag.
URL:https://froebelschule-schorndorf.de/event/osterferien-3/
END:VEVENT
BEGIN:VEVENT
DTSTART;VALUE=DATE:20200222
DTEND;VALUE=DATE:20200302
DTSTAMP:20260420T160716
CREATED:20190901T112553Z
LAST-MODIFIED:20190901T112553Z
UID:1553-1582329600-1583107199@froebelschule-schorndorf.de
SUMMARY:Winterferien
DESCRIPTION:Winterferien \nAngegeben sind jeweils der 1. und letzte Ferientag.
URL:https://froebelschule-schorndorf.de/event/winterferien-2/
END:VEVENT
BEGIN:VEVENT
DTSTART;TZID=Europe/Berlin:20200220T103000
DTEND;TZID=Europe/Berlin:20200220T103000
DTSTAMP:20260420T160716
CREATED:20200214T192418Z
LAST-MODIFIED:20200214T192418Z
UID:1773-1582194600-1582194600@froebelschule-schorndorf.de
SUMMARY:Auftritt unserer Schülerband "Rock Fox" im Kulturhaus Schwanen in Waiblingen beim Schulbandfestival
DESCRIPTION:Die Schulband „Rock Fox“ der Fröbelschule Schorndorf tritt beim diesjährigen Schulbandfestival am Donnerstag\, den 20.2.2020 im Kulturhaus Schwanen in Waiblingen auf.\nDie Veranstaltung ist öffentlich\, der Auftritt umfasst 3 Lieder und wird entweder um 10.30 oder 11.00 Uhr beginnen. \nWer unsere tolle Schülerband live erleben möchte ist herzlich eingeladen vorbeizukommen und kräftig zu applaudieren! \nWeitere Infos zum Schulbandfestival gibt es hier KLICK.
URL:https://froebelschule-schorndorf.de/event/auftritt-unserer-schuelerband-rock-fox-im-kulturhaus-schwanen-in-waiblingen-beim-schulbandfestival/
LOCATION:Kulturhaus Schwanen
END:VEVENT
BEGIN:VEVENT
DTSTART;TZID=Europe/Berlin:20200115T193000
DTEND;TZID=Europe/Berlin:20200115T210000
DTSTAMP:20260420T160716
CREATED:20191217T113022Z
LAST-MODIFIED:20191217T113022Z
UID:1739-1579116600-1579122000@froebelschule-schorndorf.de
SUMMARY:Sitzung des Elternbeirats
DESCRIPTION:Sitzung des Elternbeirats \nOrt: Neubau Foyer
URL:https://froebelschule-schorndorf.de/event/sitzung-des-elternbeirats/
END:VEVENT
BEGIN:VEVENT
DTSTART;VALUE=DATE:20191220
DTEND;VALUE=DATE:20200107
DTSTAMP:20260420T160716
CREATED:20190901T112424Z
LAST-MODIFIED:20190901T113845Z
UID:1551-1576800000-1578355199@froebelschule-schorndorf.de
SUMMARY:Weihnachtsferien
DESCRIPTION:Weihnachtsferien \nAngegeben sind jeweils der 1. und letzte Ferientag. Am letzten Schultag vor den Sommer­ferien und vor den Weihnachtsferien endet der Unterricht immer jeweils so wie freitags.
URL:https://froebelschule-schorndorf.de/event/weihnachtsferien-3/
END:VEVENT
BEGIN:VEVENT
DTSTART;TZID=Europe/Berlin:20191219T103000
DTEND;TZID=Europe/Berlin:20191219T113000
DTSTAMP:20260420T160716
CREATED:20190901T114944Z
LAST-MODIFIED:20190901T114944Z
UID:1580-1576751400-1576755000@froebelschule-schorndorf.de
SUMMARY:Weihnachtsgottesdienst vor den Weihnachtsferien
DESCRIPTION:Feierlicher Weihnachtsgottesdienst vor den Weihnachtsferien in der Pauluskirche \nSchulschluss 11.30 Uhr
URL:https://froebelschule-schorndorf.de/event/weihnachtsgottesdienst-vor-den-weihnachtsferien/
LOCATION:Pauluskirche Schorndorf
END:VEVENT
BEGIN:VEVENT
DTSTART;TZID=Europe/Berlin:20191215T180000
DTEND;TZID=Europe/Berlin:20191215T180000
DTSTAMP:20260420T160716
CREATED:20190901T114715Z
LAST-MODIFIED:20190901T114729Z
UID:1578-1576432800-1576432800@froebelschule-schorndorf.de
SUMMARY:Weihnachtskonzert
DESCRIPTION:Weihnachtskonzert in der Stadtkirche \n 
URL:https://froebelschule-schorndorf.de/event/weihnachtskonzert-2/
LOCATION:Stadtkirche Schorndorf
END:VEVENT
BEGIN:VEVENT
DTSTART;TZID=Europe/Berlin:20191215T170000
DTEND;TZID=Europe/Berlin:20191215T190000
DTSTAMP:20260420T160716
CREATED:20190930T190612Z
LAST-MODIFIED:20190930T190612Z
UID:1651-1576429200-1576436400@froebelschule-schorndorf.de
SUMMARY:Weihnachtskonzert der Jugendmusikschule Schorndorf mit Auftritt der Fröbelmusiker
DESCRIPTION:Weihnachtskonzert der Jugendmusikschule Schorndorf mit den Fröbelmusikern in der Stadtkirche in Schorndorf.
URL:https://froebelschule-schorndorf.de/event/weihnachtskonzert-der-jugendmusikschule-schorndorf-mit-auftritt-der-froebelmusiker/
LOCATION:Stadtkirche Schorndorf
END:VEVENT
BEGIN:VEVENT
DTSTART;VALUE=DATE:20191116
DTEND;VALUE=DATE:20191117
DTSTAMP:20260420T160716
CREATED:20190901T115108Z
LAST-MODIFIED:20190901T115108Z
UID:1582-1573862400-1573948799@froebelschule-schorndorf.de
SUMMARY:Pädagogischer Tag
DESCRIPTION:Die Lehrer treffen sich zum pädagogischen Tag
URL:https://froebelschule-schorndorf.de/event/paedagogischer-tag-2/
LOCATION:Fröbelschule Schorndorf\, Rainbrunnenstraße 24\, Schorndorf\, 73614\, Deutschland
END:VEVENT
BEGIN:VEVENT
DTSTART;TZID=Europe/Berlin:20191108T120000
DTEND;TZID=Europe/Berlin:20191108T150000
DTSTAMP:20260420T160716
CREATED:20190901T114558Z
LAST-MODIFIED:20190901T114605Z
UID:1576-1573214400-1573225200@froebelschule-schorndorf.de
SUMMARY:Förderplangespräche
DESCRIPTION:Förderplangespräche mit dem Klassenlehrer \nTermine werden individuell vereinbart
URL:https://froebelschule-schorndorf.de/event/foerderplangespraeche-2/
LOCATION:Fröbelschule Schorndorf\, Rainbrunnenstraße 24\, Schorndorf\, 73614\, Deutschland
END:VEVENT
BEGIN:VEVENT
DTSTART;VALUE=DATE:20191026
DTEND;VALUE=DATE:20191104
DTSTAMP:20260420T160716
CREATED:20190901T112153Z
LAST-MODIFIED:20190901T113529Z
UID:1549-1572048000-1572825599@froebelschule-schorndorf.de
SUMMARY:Herbstferien
DESCRIPTION:
URL:https://froebelschule-schorndorf.de/event/herbstferien-2/
END:VEVENT
BEGIN:VEVENT
DTSTART;VALUE=DATE:20191024
DTEND;VALUE=DATE:20191025
DTSTAMP:20260420T160716
CREATED:20190901T114429Z
LAST-MODIFIED:20190901T114429Z
UID:1574-1571875200-1571961599@froebelschule-schorndorf.de
SUMMARY:Lehrerausflug
DESCRIPTION:Lehrerausflug \nSchulschluss 12.15 Uhr \nKein Mittagessen!
URL:https://froebelschule-schorndorf.de/event/lehrerausflug-2/
END:VEVENT
BEGIN:VEVENT
DTSTART;TZID=Europe/Berlin:20191017T193000
DTEND;TZID=Europe/Berlin:20191017T203000
DTSTAMP:20260420T160716
CREATED:20190901T114014Z
LAST-MODIFIED:20190910T180449Z
UID:1570-1571340600-1571344200@froebelschule-schorndorf.de
SUMMARY:Fördervereinssitzung
DESCRIPTION:Sitzung des Fördervereins \nBeginn: 19.30 Uhr
URL:https://froebelschule-schorndorf.de/event/foerdervereinssitzung-2/
LOCATION:Fröbelschule Schorndorf\, Rainbrunnenstraße 24\, Schorndorf\, 73614\, Deutschland
END:VEVENT
BEGIN:VEVENT
DTSTART;VALUE=DATE:20191004
DTEND;VALUE=DATE:20191005
DTSTAMP:20260420T160716
CREATED:20190901T112042Z
LAST-MODIFIED:20190901T112042Z
UID:1547-1570147200-1570233599@froebelschule-schorndorf.de
SUMMARY:Brückentag
DESCRIPTION:schulfreier Brückentag
URL:https://froebelschule-schorndorf.de/event/brueckentag/
END:VEVENT
BEGIN:VEVENT
DTSTART;VALUE=DATE:20191003
DTEND;VALUE=DATE:20191004
DTSTAMP:20260420T160716
CREATED:20190901T111945Z
LAST-MODIFIED:20190901T111945Z
UID:1545-1570060800-1570147199@froebelschule-schorndorf.de
SUMMARY:Feiertag
DESCRIPTION:Feiertag „Tag der deutschen Einheit“
URL:https://froebelschule-schorndorf.de/event/feiertag/
END:VEVENT
BEGIN:VEVENT
DTSTART;TZID=Europe/Berlin:20191001T190000
DTEND;TZID=Europe/Berlin:20191001T210000
DTSTAMP:20260420T160716
CREATED:20190901T114241Z
LAST-MODIFIED:20190901T114318Z
UID:1572-1569956400-1569963600@froebelschule-schorndorf.de
SUMMARY:Elternabend
DESCRIPTION:1. Elternabend \nBeginn 19.00 Uhr mit einem allgemeinen Teil im Foyer Neubau\nanschließend klasseninterner Elternabend mit dem Klassenlehrer \n 
URL:https://froebelschule-schorndorf.de/event/elternabend/
LOCATION:Fröbelschule Schorndorf\, Rainbrunnenstraße 24\, Schorndorf\, 73614\, Deutschland
END:VEVENT
BEGIN:VEVENT
DTSTART;VALUE=DATE:20190911
DTEND;VALUE=DATE:20190912
DTSTAMP:20260420T160716
CREATED:20180801T104843Z
LAST-MODIFIED:20180801T104843Z
UID:1187-1568160000-1568246399@froebelschule-schorndorf.de
SUMMARY:Erster Schultag 2019/2020
DESCRIPTION:Schulbeginn 8.00 Uhr
URL:https://froebelschule-schorndorf.de/event/erster-schultag-2019-2020/
END:VEVENT
END:VCALENDAR